BEGIN:VCALENDAR
VERSION:2.0
PRODID:-//Manitoba Cycling Association - ECPv6.15.20//NONSGML v1.0//EN
CALSCALE:GREGORIAN
METHOD:PUBLISH
X-WR-CALNAME:Manitoba Cycling Association
X-ORIGINAL-URL:https://mbcycling.ca
X-WR-CALDESC:Events for Manitoba Cycling Association
REFRESH-INTERVAL;VALUE=DURATION:PT1H
X-Robots-Tag:noindex
X-PUBLISHED-TTL:PT1H
BEGIN:VTIMEZONE
TZID:America/Winnipeg
BEGIN:DAYLIGHT
TZOFFSETFROM:-0600
TZOFFSETTO:-0500
TZNAME:CDT
DTSTART:20240310T080000
END:DAYLIGHT
BEGIN:STANDARD
TZOFFSETFROM:-0500
TZOFFSETTO:-0600
TZNAME:CST
DTSTART:20241103T070000
END:STANDARD
BEGIN:DAYLIGHT
TZOFFSETFROM:-0600
TZOFFSETTO:-0500
TZNAME:CDT
DTSTART:20250309T080000
END:DAYLIGHT
BEGIN:STANDARD
TZOFFSETFROM:-0500
TZOFFSETTO:-0600
TZNAME:CST
DTSTART:20251102T070000
END:STANDARD
BEGIN:DAYLIGHT
TZOFFSETFROM:-0600
TZOFFSETTO:-0500
TZNAME:CDT
DTSTART:20260308T080000
END:DAYLIGHT
BEGIN:STANDARD
TZOFFSETFROM:-0500
TZOFFSETTO:-0600
TZNAME:CST
DTSTART:20261101T070000
END:STANDARD
END:VTIMEZONE
BEGIN:VEVENT
DTSTART;VALUE=DATE:20250920
DTEND;VALUE=DATE:20250921
DTSTAMP:20260421T050756
CREATED:20250328T192851Z
LAST-MODIFIED:20250910T134434Z
UID:172772-1758326400-1758412799@mbcycling.ca
SUMMARY:RACE CLINIC: Introduction to Cyclocross
DESCRIPTION:Click Here to Sign Up Today!\nCurious About Racing in a Cyclocross Event? \nThis beginner-friendly clinic is ideal for those who are curious about racing and want to participate in a group ride with activities and drills that will build confidence and excitement for race day. All you need is a helmet\, a bike with working gears and brakes\, and a willingness to learn. \nWhat to Expect:\n\nDiscuss race day basics like where to check in\, what to do with race numbers\, race pre-riding and seeding at the start line.\nLearn essential cyclocross skills like getting over barriers\, cornering\, and carrying your bike while running.\nPractice body position to take corners efficiently and stay on your bike during challenging hill sections.\nGain tips on choosing lines and riding closely in a group.\nRide the Southwood Circle Cross race course with opportunities to practice new skills in a supportive environment.\nWrap up with a debrief and Q&A to answer any lingering questions.\n\nClinic Details:\n\nDate: September 20\, 2025\nTime: 8:30 am\nLocation: Canadian Mennonite University\, Winnipeg\, MB.\nClinic Leader: Mathieu & Twila Fillion\n\nRegistration Details:\n\nMCA Member Cost: FREE\nNon-MCA Member Cost: $5.00\nOnline Registration Link: Cyclocross Racing Clinic | CCN\n\nTry a Race:\nNot sure where to start? Ask your clinic leaders what race might be right for you! \n\nSeptember 13: Southwood Circle Cross\nSeptember 20: Mennocross\nSeptember 28: Velocross\nOctober 4: Cyclocross Race\nOctober 19: Crosstastic (Provincial Championships)\nOctober 26: Cyclocross Race\nNovember 2: Beachcross
URL:https://mbcycling.ca/event/race-clinic-introduction-to-racing-in-a-criterium/
CATEGORIES:Cycling For All,Cyclocross
ATTACH;FMTTYPE=image/png:https://mbcycling.ca/wp-content/uploads/2025/03/Social-Media-posttemplates-12.png
END:VEVENT
BEGIN:VEVENT
DTSTART;VALUE=DATE:20250927
DTEND;VALUE=DATE:20250929
DTSTAMP:20260421T050756
CREATED:20250801T155626Z
LAST-MODIFIED:20250910T134424Z
UID:173924-1758931200-1759103999@mbcycling.ca
SUMMARY:HopOn Cyclocross: Introduction to Racing - Youth Clinic
DESCRIPTION:CLICK HERE TO REGISTER!\nClinic Details: \n\nDate: September 27th & 28th\nTimes: 3-hour clinics + race day on following day\n\n9:00 am – 12:00 pm (ages 8-10)\n1:00 pm – 4:00 pm (ages 11-13)\n\n\nLocation: La Barriere Park\nEquipment: \n\nA bike in good working order.\nA helmet (mandatory).\n\n\nCoaches: \n\nJo Burdon\nMatthaeus Dyck\n\n\n\nWhat to Expect: \n\nOn Saturday\, our certified coaches will lead participants through a series of games and drills that will focus on fundamental skills related to Cyclocross Racing. These skills will include (but are not limited to):\n\nMounts\nDismounts\nTight Turns\nNavigating Different Terrains\n& More….!\n\n\nOn Sunday\, participants will have the opportunity to put their new skills to the test by racing in the youth category at the Velocross Race hosted by the Velodonna’s cycling club. All participants will meet our instructors prior to the race and will be guided through race preparation and registration\, ensuring the riders are confident and ready to hit the course.\n\nRegistration: \n\nRegistration Opens: August 11\, 2025\nRegistration Closes: September 22\, 2025\nCost: $40.00 (discounts applied for MCA members)\nCapacity: 10 spots available per session.\nRegistration Link: HopOn Cyclocross: Introduction to racing (Youth Clinic) | CCN\n\nFor any questions regarding the youth cyclocross race clinic\, please contact Stephanie at youthcycling@sportmanitoba.ca
URL:https://mbcycling.ca/event/hopon-cyclocross-introduction-to-racing-youth-clinic/
CATEGORIES:Cycling For All,Cyclocross,Kids of Mud
ATTACH;FMTTYPE=image/png:https://mbcycling.ca/wp-content/uploads/2025/08/Social-Media-posttemplates-16.png
END:VEVENT
END:VCALENDAR