BEGIN:VCALENDAR
VERSION:2.0
PRODID:-//Manitoba Cycling Association - ECPv6.15.20//NONSGML v1.0//EN
CALSCALE:GREGORIAN
METHOD:PUBLISH
X-WR-CALNAME:Manitoba Cycling Association
X-ORIGINAL-URL:https://mbcycling.ca
X-WR-CALDESC:Events for Manitoba Cycling Association
REFRESH-INTERVAL;VALUE=DURATION:PT1H
X-Robots-Tag:noindex
X-PUBLISHED-TTL:PT1H
BEGIN:VTIMEZONE
TZID:America/Winnipeg
BEGIN:DAYLIGHT
TZOFFSETFROM:-0600
TZOFFSETTO:-0500
TZNAME:CDT
DTSTART:20250309T080000
END:DAYLIGHT
BEGIN:STANDARD
TZOFFSETFROM:-0500
TZOFFSETTO:-0600
TZNAME:CST
DTSTART:20251102T070000
END:STANDARD
BEGIN:DAYLIGHT
TZOFFSETFROM:-0600
TZOFFSETTO:-0500
TZNAME:CDT
DTSTART:20260308T080000
END:DAYLIGHT
BEGIN:STANDARD
TZOFFSETFROM:-0500
TZOFFSETTO:-0600
TZNAME:CST
DTSTART:20261101T070000
END:STANDARD
BEGIN:DAYLIGHT
TZOFFSETFROM:-0600
TZOFFSETTO:-0500
TZNAME:CDT
DTSTART:20270314T080000
END:DAYLIGHT
BEGIN:STANDARD
TZOFFSETFROM:-0500
TZOFFSETTO:-0600
TZNAME:CST
DTSTART:20271107T070000
END:STANDARD
END:VTIMEZONE
BEGIN:VEVENT
DTSTART;TZID=America/Winnipeg:20260422T180000
DTEND;TZID=America/Winnipeg:20260422T200000
DTSTAMP:20260422T051018
CREATED:20260225T170446Z
LAST-MODIFIED:20260406T212041Z
UID:175135-1776880800-1776888000@mbcycling.ca
SUMMARY:Bison Butte Dig Night Wednesday\, April 22nd
DESCRIPTION:Bison Butte Dig Night Kick Off\nPlease join us at Bison Butte (*mashkode-bizhiki (na)) to help maintain our beloved trails while also building a stronger community!  \nRegister \nNote: for insurance purposes all attendees must register and sign a waiver  \nDate: Wednesday\, April 22nd\, 2026\nTime: 6:30 pm to 9 pm \nMore Information : Click here \nDonate Today!  Click Here \nThe Bison Butte (mashkode-bizhiki) trails are located between Cabella/Ikea and FortWhyte Alive. \nMashkode-bizhiki is Bison Butte’s official indigenous name! \n\nMashkode – prairie\, grassland\, or open plain\nNizhiki – buffalo\n\nThe 6km of trails are open to the public and maintained by volunteers and thru grants obtained by Manitoba Cycling for approved work at the site.
URL:https://mbcycling.ca/event/bison-butte-dig-night-wednesday-april-22/
LOCATION:Bison Butte
ATTACH;FMTTYPE=image/jpeg:https://mbcycling.ca/wp-content/uploads/2026/03/APRIL-1-NEWSLETTER.jpg
END:VEVENT
END:VCALENDAR